BEGIN:VCALENDAR
PRODID:-//Det Danske Spejderkorps//NONSGML Gruppeweb//EN
VERSION:2.0
CALSCALE:GREGORIAN
X-PUBLISHED-TTL:PT1H
X-WR-CALNAME:Sydhav Division
METHOD:PUBLISH
BEGIN:VEVENT
UID:gruppeweb.dk:3100:event:116
DTSTAMP:20260420T024449Z
LAST-MODIFIED:20260213T061012Z
SUMMARY:Divisionsrådsmøde for Sydhav divisionen
DESCRIPTION:======== Alle interesserede er velkomne til at deltage i\n    
      divisionsrådsmødet foruden de 5 stemmeberettigede\n         divisio
 nsrådsmedlemmer\, som er udvalgt på grupperådsmøderne. \n         \n 
         */Flaskeposten + tilhørende dagsorden\, beretninger og regnskab\n
          bliver vedhæftet i filer på hjemmesiden./*\n         / Tilmeld
 ing skal ske senest d. 16 april grundet bestilling af mad\n         til sp
 isning kl. 18 før div.rådsmødet. /\n         \n         /Man er velkomm
 en til at deltage i mødet uden at deltage i\n         spisningen.//\n    
      /\n         \n          =============================================
 =======================\n\n-------- *Hvad er divisionsrådsmødet?* ------
 -------------------------------\n\n======== *- Den årlige generalforsamli
 ng for alle medlemmer i Sydhav\n         divisionen.*\n         \n        
  Divisionsrådsmødet er divisionens øverste myndighed\, hvor alle\n    
      divisionens grupper og medlemmer bliver inviteret. 3 uger før\n     
     divisionsrådsmødet afholdes udsendes divisionens blad\n         "Fla
 skeposten" /(vedhæftet i filer)/ med dagsordenen for\n         divisio
 nsrådsmødet\, beretning fra divisionsledelsen\, beretning fra\n         
 divisionsledelseskasser\, Kråruplund\, beretning fra Friluftsrådet\n    
      og aktivitetskalender for det kommende år.\n          ==============
 ======================================================\n\n-------- *Hvad s
 ker der på divisionsrådsmødet?* ---------------------------\n\n========
  På divisionsrådsmødet fremlægger divisionsledelsen en beretning\n    
      for det indeværende år i divisionen om hvilke arrangementer\,\n    
      aktiviteter og initiativer som er blevet afholdt i divisionen.\n     
     \n         På divisionsrådsmødet bliver regnskabet for indeværende
  år og\n         budgettet for det kommende år fremlagt.\n         \n   
       Foruden beretningen fra divisionsledelsen bliver der på\n         d
 ivisionsrådsmødet valgt nye medlemmer til\n         divisionsledelsen. 
 Valg til divisionsledelsen afgøres ved\n         almindelig stemmeflerhed
  og gælder for en 2-årig periode. For at\n         blive valgt skal en k
 andidat opnå mere end 1/3 af de i mødet\n         deltagende stemmeberet
 tigedes stemmer.\n         \n         Dette punkt på divisionsrådsmødet
  er særligt vigtigt\, da det er\n         vigtigt at divisionsledelsen af
 spejler grupperne i divisionen\, da\n         divisionsledelsens primære 
 opgave er at udvikle divisionen og\n         grupperne til gavn for alle 
 divisionens medlemmer.\n          ========================================
 ============================\n\n-------- *Hvem kan deltage i divisionsråd
 smødet?* --------------------------\n\n======== Alle divisionens enheder 
 har op til 5 stemmer\, som enhedens\n         medlemmer har udpeget på gr
 upperådene. Derudover har\n         divisionsledelsens medlemmer én stem
 me hver.\n         \n         Afgivning af stemmer kan kun ske ved personl
 igt fremmøde – Alle\n         interesserede kan deltage i divisionsrå
 dsmødet.\n          =====================================================
 ===============\n\n
URL:https://sydhavdivision.dk/begivenhed/divisionsraadsmoede-sydhav-divisio
 nen-0
DTSTART:20250428T170000Z
DTEND:20250428T190000Z
LOCATION:Sydhav Division\, Krårupvej 31\, 4990 Sakskøbing
END:VEVENT
BEGIN:VEVENT
UID:gruppeweb.dk:3100:event:115
DTSTAMP:20260420T024449Z
LAST-MODIFIED:20260213T061017Z
SUMMARY:Ledersamling hos Nakskov Spejderne
DESCRIPTION:*TIRSDAG D. 3 juni. NOVEMBER Kl. 18:30 – 20:30*\n\n*HOS NAKSK
 OV SPEJDERNE\, Engtoften 15\, 4900 NAKSKOV.*\n\n*Kl. 18:30 Velkomst og san
 g.*\n\n*Indslag fra Nakskov Spejderne.*\n\n*Brainstorm og idegenerering me
 d udgangspunkt i refleksionsspørgsmål?*\n\n * Hvilke aktiviteter/oplæg 
 ønsker du/I til kommende ledersamlinger/\n   lederdag i divisionen?\n   \
 n * Hvilke divisionens arrangementer bør vi fremadrettet fastholde eller\
 n   forsætte med?\n   \n * Hvordan fremtidssikrer vi Kråruplunds fremtid
  forsat kan være muligt at\n   være ejet af Sydhav Divisionen?\n   \n * 
 Nye ledelsesmedlemmer/ fornyelse af divisionsledelsen for at sikre videns\
 n   overførsel til et 'generationsskifte' på sigt?\n   \n\n*Sommerens tr
 aktement og social samtale*\n\n*Kl. 20:30 Afslutning m. spejderbror – ta
 k for i aften.*\n\n*HUSK egen kop! *\n\n*Vi håber at se mange ledere og 
 seniorer fra alle divisionens grupper.*\n\n*Med spejderhilsen*\n\n*Divisio
 nsledelsen *\n\n\n
URL:https://sydhavdivision.dk/begivenhed/ledersamling-hos-nakskov-spejderne
 -0
DTSTART:20250603T163000Z
DTEND:20250603T183000Z
LOCATION:Nakskov spejderne\, Engtoften 14\, 4900 Nakskov
END:VEVENT
BEGIN:VEVENT
UID:gruppeweb.dk:3100:event:117
DTSTAMP:20260420T024449Z
LAST-MODIFIED:20260213T061014Z
SUMMARY:Ledersamling hos Aztekerne
DESCRIPTION:.\n\n\n*Kære ledere og klanspejdere i Sydhav Division!*\n\nHer
 med dagsorden til ledersamlingen\, som foregår i Sakskøbing (tidligere  
 \noplyst\, at denne skulle afholdes hos Aztekerne. Aztekerne er i gang med
   \nombygning m.m.\, så derfor holdes mødet i Sakskøbing!)\n\nDagsorden
 :\n\nKl. 19 Velkomst v/DC Sanni – sang.\n\n * Info ved GL Emil\, Sakskø
 bing om evt. fælles reklamer på busser.\n   \n * Evaluering af aktivitet
 er i divisionen i 2025: Olandiske – Mikro-minidag\n   – ledersamlinger
  – Sydhavs Camp – andre aktiviteter i divisionen.\n   \n * Ønsker for
  aktiviteter i 2026 og hvilke grupper kan/vil stå for disse.\n   Antal le
 der-samlinger.\n   \n * Hvilke aktiviteter eller oplæg ønsker du/I til k
 ommende ledersamlinger\n   og lederdag i divisionen? - Hvilke af divisione
 ns arrangementer skal vi\n   fastholde eller udvikle? - Hvordan kan vi fre
 mtidssikre\, at Kråruplund\n   fortsat kan være ejet af Sydhav Divisione
 n? - Hvordan får vi nye\n   ledelsesmedlemmer og sikrer videns overførse
 l i et kommende\n   generationsskifte i divisionsledelsen?\n   \n * Spejde
 rnes lejr 2026 – er der ønske om\, sammen med de andre korps på\n   Lo
 lland og Falster – at få besøg og høre mere om lejren.???\n   \n * Kl
 . 20\,50 Fælles afslutning\n   \n\nTak for i aften.\n\n\nHUSK eget krus 
 – Sakskøbing spejderne sørger for kaffe/the og noget til  \ndette!!!\n
 \nVi håber at se mange ledere og klanspejdere denne aften.\n\n\n*Tilmeldi
 ng skal foregå via medlemsservice senest den 12. oktober.*\n\n\n*Spejderh
 ilsen*\n\n*Divisionsledelsen.*\n\n
URL:https://sydhavdivision.dk/begivenhed/ledersamling-hos-aztekerne-0
DTSTART:20251022T170000Z
DTEND:20251022T190000Z
LOCATION:Aztekerne (Holeby spejderne)\, Vensløkkevej 4\, 4960 Holeby
END:VEVENT
BEGIN:VEVENT
UID:gruppeweb.dk:3100:event:119
DTSTAMP:20260420T024449Z
LAST-MODIFIED:20260213T061010Z
SUMMARY:VÆKSTAFTEN -  Svend Gønges og Sydhav Division
DESCRIPTION:*INVITATION TIL VÆKSTAFTEN -  TILMELDING SKAL SKE VIA. LINK N
 EDENFOR!!!*\n\n\n\nKære spejderledere og bestyrelsesmedlemmer i Svend Gø
 nges og Sydhav  \nDivision\n\n\n\nI samarbejde med divisionen vil gerne in
 vitere jer til en\nvækstaften – en inspirerende aften fyldt med worksho
 ps\, netværk og  \nkonkrete\nværktøjer\, der styrker jeres arbejde med 
 velkomst og fastholdelse af  \nspejdere\nog ledere i jeres grupper.\n\n\n\
 nVækstaftenen er for alle i divisionen – uanset om du er\ngruppeleder m
 ed strategisk ansvar\, minileder med passion for sjove  \naktiviteter\nell
 er bestyrelsesmedlem\, der vil understøtte gruppens udvikling. For\nspejd
 erlivet er noget helt særligt. Det er fællesskab\, eventyr\, udvikling  
 \nog\nstærke værdier og vores mål er klar: Flere spejdere med i fælles
 skabet.\n\n\n\n*I løbet af aftenen vil vi arbejde med spørgsmål som:*\n
 \n\n\n• /Hvordan skaber vi en stærkere spejdergruppe? /\n\n\n\n/• Hvo
 rdan sikrer vi\, at nye ledere bliver en del af\nfællesskabet? /\n\n\n\n/
 • Hvordan fastholder vi spejdergejsten år efter år?/\n\n\n\n/• Hvord
 an får vi flere børn til at blive spejdere?/\n\n\n\n/ /\n\nVi vil gerne
  invitere til en aften\, hvor vi kan samarbejde\nog sparre med hinanden og
  på tværs af\n\n\n\ngrupper\, om fastholdelse\, rekruttering og attrakti
 vt\nspejderarbejde\, og hvor I får nye konkrete\n\n\n\nværktøjer og id
 éer\, som I kan bruge hjemme i gruppen\,\n\n\n\n*Program for aftenen:*\n\
 n\n\n1. Velkomst og let aftensmad\n\n\n\n2. Præsentation af vækststrateg
 ien\n\n\n\n3. Arbejde med forskellige workshops\n\n\n\n·        \
 nFx: Frivillige anno 2025\n\n\n\n·        \nBørn og unge anno 20
 25\n\n\n\n·        \nDen gode overgang fra gren til gren\n\n\n\n
 ·        \nFrivillige ressourcer\n\n\n\n4. Fælles opsamling og a
 fslutning\n\n\n\n\n \n\n\n*Dato:* Torsdag d. 30.\noktober 2025\n\n\n\n*St
 ed:* /Dehnshytten\, Strandgaardsvej 30/\n\n\n\n\n*Tidspunkt:* /17:30-21:00
 /\n\n*Tilmelding:* Tilmeld dig her [1]\n\n\n\nVi glæder os til at bruge 
 en aften sammen med jer\, hvor vi\nskal samarbejde og sparre på kryds og 
 tværs\, få indblik i hvad der fylder  \nhos\njer i divisionerne og møde
  så mange af jer grupper\, som muligt.\n\n\n\n*Mange spejderhilsner\, Lau
 ra Stæhr Tranevig *\n\n\n\n\n*Udviklingskonsulenter\, Det Danske Spejderk
 orps – på vegne\naf hele team vækst*\n\n\n\n\n\n\n\n[1] https://dds.dk
 /arrangement/vaekstaften-for-sydhav-og-svend-goenges-division\n
URL:https://sydhavdivision.dk/begivenhed/vaekstaften-svend-goenges-og-sydha
 v-division
DTSTART:20251030T163000Z
DTEND:20251030T200000Z
LOCATION:Sydhav Division\, Krårupvej 31\, 21.\, 4990 Sakskøbing
END:VEVENT
BEGIN:VEVENT
UID:gruppeweb.dk:3100:event:123
DTSTAMP:20260420T024449Z
LAST-MODIFIED:20260213T061000Z
SUMMARY:For-korpsrådsmøde hos Maribo spejderne
DESCRIPTION:Du er tilmeldt årets korpsrådsmøde i Legoland d. 14-16 novem
 ber og derfor  \ninvitere divisionen mandag d. 7 November kl. 19-21 til fo
 rkorpsrådsmøde i  \nSpejdervænget i Maribo. \n\nPå mødet vil vi drø
 fte evt. forslag til vedtægtsændringer og betydningen  \naf dem for båd
 e grupper og divisionen\, aftaler samkørsel\, og gennemgår  \nhvad året
 s korpsrådsmøde tilbyder af inspiration og aktiviteter i år.\n\nMedbrin
 g gerne det ny tilsendte WIDE med oplysninger og årets  \nkorpsrådsmøde
 .\n\nAlle er velkomne til deltagelse i dette møde både dem med og uden s
 temmeret  \neller andre interesserede.\n\n
URL:https://sydhavdivision.dk/begivenhed/korpsraadsmoede-hos-maribo-spejder
 ne-0
DTSTART:20251106T180000Z
DTEND:20251106T200000Z
LOCATION:Sydhav Division\, Krårupvej 31\, 21.\, 4990 Sakskøbing
END:VEVENT
BEGIN:VEVENT
UID:gruppeweb.dk:3100:event:122
DTSTAMP:20260420T024449Z
LAST-MODIFIED:20260213T061003Z
SUMMARY:Fællesmøde for bestyrelsesmedlemmer i Sydhav Divisionen
DESCRIPTION:*Til alle bestyrelsesmedlemmer i\ngrupper under Sydhavdivsionen
 !*\n\n\n\n\n \n\n\n*I inviteres hermed til et fælles møde for alle\nbes
 tyrelsesmedlemmer i Sydhavdivisionen*\n\n\n\n*TORSDAG DEN 20.\nNOVEMBER KL
 . 19 – 21 HOS AZTEKERNE\, Vensløkkevej 4\, Holeby.*\n\n\n\n*Dagsorden f
 or mødet: *\n\n\n\n * .      Velkomst v/DC Sanni.\n   \n   \n   \n *
  .      Orientering fra korpsrådsmødet den 14. – 16. november\,\n
    beslutninger\, valg\, udviklingsplanen\, andet som har betydning for\n 
   gruppernes arbejde fremover.\n   \n   \n   \n * .      Datoer for g
 rupperådsmøder i februar 2026\, besøg fra\n   divisionsledelsen.\n   \n
    \n   \n * .      KORT nyt fra grupperne.\n   \n   \n   \n * .  
     Arbejdsdag på Kråruplund 18. april\, hvor alle grupper skal\n   s
 tille med min. 2 personer.\n   \n   \n   \n * .      Divisionsrådsm
 øde den 28. april på Kråruplund. Valg til\n   divisionsledelsen.\n   \n
    \n   \n *       Eventuelt.\n   \n   \n   \n\nAztekerne sørger for 
 kaffe/the og\ntilbehør til dette. HUSK eget krus!\n\n\n\n*Tilmelding sker
  via medlemsservice\nsenest den 13. november.*\n\n\n\nVi håber at se rigt
 ig mange\nbestyrelsesmedlemmer fra divisionens grupper.\n\n\n\n*Med spejde
 rhilsen*\n\n\n\n*Divisionsledelsen.*\n\n\n\n\n \n\n\n\n \n\n\n* *\n\n\n
 \n\n \n\n\n\n \n\n\n\n\n \n\n\n
URL:https://sydhavdivision.dk/begivenhed/faellesmoede-bestyrelsesmedlemmer-
 i-sydhav-divisionen
DTSTART:20251120T180000Z
DTEND:20251120T200000Z
LOCATION:Aztekerne\, Vensløkkevej 4\, 4960 Holeby
END:VEVENT
BEGIN:VEVENT
UID:gruppeweb.dk:3100:event:124
DTSTAMP:20260420T024449Z
LAST-MODIFIED:20260310T162836Z
SUMMARY:Ledersamling
DESCRIPTION:\nKære ledere og klanspejdere i Sydhavsdivision\n\nI indbydes 
 hermed til\n\nLEDERSAMLING – ONSDAG DEN 25. MARTS kl. 19 – 21 i Spejde
 rvænget\, Maribo.\n\nVi glæder os til at se mange ledere og klanspejdere
  fra alle divisionens  \ngrupper.\n\n\nSpejderhilsen\n\nDivisionsledelsen\
 n\n
URL:https://sydhavdivision.dk/begivenhed/ledersamling-5
DTSTART:20260325T180000Z
DTEND:20260325T195000Z
LOCATION:Maribo spejderne\, Spejdervænget 5\, 4930 Maribo
END:VEVENT
BEGIN:VEVENT
UID:gruppeweb.dk:3100:event:120
DTSTAMP:20260420T024449Z
LAST-MODIFIED:20260310T162837Z
SUMMARY:Arbejdsdag på Kråruplund
DESCRIPTION:\n
URL:https://sydhavdivision.dk/begivenhed/arbejdsdag-paa-kraaruplund-1
DTSTART:20260418T070000Z
DTEND:20260418T140000Z
LOCATION:Kråruplund\, Krårupvej 31\, 4990 Sakskøbing
END:VEVENT
BEGIN:VEVENT
UID:gruppeweb.dk:3100:event:121
DTSTAMP:20260420T024449Z
LAST-MODIFIED:20260402T051057Z
SUMMARY:Divisionsrådsmøde for Sydhav divisionen
DESCRIPTION:\n
URL:https://sydhavdivision.dk/begivenhed/divisionsraadsmoede-sydhav-divisio
 nen-1
DTSTART:20260428T170000Z
DTEND:20260428T190000Z
LOCATION:Kråruplund\, Krårupvej 31\, 4990 Sakskøbing
END:VEVENT
BEGIN:VEVENT
UID:gruppeweb.dk:3100:event:125
DTSTAMP:20260420T024449Z
LAST-MODIFIED:20260310T162840Z
SUMMARY:Ledersamling
DESCRIPTION:Dagsorden fremsendes senere\n\n
URL:https://sydhavdivision.dk/begivenhed/ledersamling-6
DTSTART:20260615T160000Z
DTEND:20260615T180000Z
LOCATION:Maribo spejderne\, Spejdervænget 5\, 4930 Maribo
END:VEVENT
BEGIN:VEVENT
UID:gruppeweb.dk:3100:event:126
DTSTAMP:20260420T024449Z
LAST-MODIFIED:20260410T081210Z
SUMMARY:Ledersamling hos Nykøbing F. Spejderne
DESCRIPTION:\n
URL:https://sydhavdivision.dk/begivenhed/ledersamling-hos-nykoebing-f-spejd
 erne-0
DTSTART:20261022T170000Z
DTEND:20261022T190000Z
LOCATION:Sydhav Division\, Birkevænget 21\, 4930 Maribo
END:VEVENT
END:VCALENDAR
